BEGIN:VCALENDAR
VERSION:2.0
PRODID:-//ChamberMaster//Event Calendar 2.0//EN
METHOD:PUBLISH
X-PUBLISHED-TTL:P1H
REFRESH-INTERVAL:P1H
CALSCALE:GREGORIAN
BEGIN:VTIMEZONE
TZID:America/New_York
BEGIN:DAYLIGHT
RRULE:FREQ=YEARLY;BYMONTH=3;BYDAY=2SU
DTSTART:20070101T000000
TZOFFSETFROM:-0500
TZOFFSETTO:-0400
TZNAME:Eastern Daylight Time
END:DAYLIGHT
BEGIN:STANDARD
RRULE:FREQ=YEARLY;BYMONTH=11;BYDAY=1SU
DTSTART:20070101T000000
TZOFFSETFROM:-0400
TZOFFSETTO:-0500
TZNAME:Eastern Standard Time
END:STANDARD
END:VTIMEZONE
BEGIN:VEVENT
DTSTART;TZID=America/New_York:20230223T053000
DTEND;TZID=America/New_York:20230223T193000
X-MICROSOFT-CDO-ALLDAYEVENT:FALSE
SUMMARY:Chamber Social at Dave and Busters
DESCRIPTION:Join us\, meet some new friends and unwind at the end of a busy work day.  It's our monthly Chamber Social at Chamber Member Dave and Buster's in Pineville.  Come as you are and have a great time.  Preregister to get your first drink free.  There are also complementary appetizers.  Register below for this free event.  We'll print you a personalized name tag that you can pick up at the door.Free appetizers provided by Dave & Busters!\nPre-register and you will receive your first drink FREE plus appetizers!Thanks to our host Dave and Busters!
X-ALT-DESC;FMTTYPE=text/html:<!DOCTYPE html><html><head><title></title></head><body aria-disabled="false"><div style="text-align: left\;"><span style="font-size: 18px\;">Join us\, meet some new friends and unwind at the end of a busy work day. &nbsp\;It&#39\;s our monthly Chamber Social at Chamber Member Dave and Buster&#39\;s in Pineville. &nbsp\;Come as you are and have a great time. &nbsp\;Preregister to get your first drink free. &nbsp\;There are also complementary appetizers. &nbsp\;Register below for this free event. &nbsp\;We&#39\;ll print you a personalized name tag that you can pick up at the door.</span></div><p><span style="font-size: 18px\;">Free appetizers provided by Dave &amp\; Busters!</span></p><p><br></p><p style="text-align: center\;"><span style="font-size: 18px\;"><span style="font-size: 24px\;"><strong fr-original-style="" style="font-weight: 700\;"><span style="color: rgb(65\, 168\, 95)\;">Pre-register and you will receive your first drink FREE plus appetizers!</span></strong></span></span></p><p style="text-align: center\;"><span style="font-size: 18px\;"><span style="font-size: 24px\;"><strong fr-original-style="" style="font-weight: 700\;">Thanks to our host Dave and Busters!</strong></span></span></p></body></html>
LOCATION:11049 Carolina Place Parkway Pineville NC 28134
UID:e.1683.770589
SEQUENCE:3
DTSTAMP:20260422T001707Z
URL:https://business.pinevillencchamber.com/calendar-of-events/Details/chamber-social-at-dave-and-busters-840177?sourceTypeId=Hub
END:VEVENT
END:VCALENDAR
